BEGIN:VCALENDAR
VERSION:2.0
PRODID:-//ReliabilityFirst - ECPv6.15.20//NONSGML v1.0//EN
CALSCALE:GREGORIAN
METHOD:PUBLISH
X-ORIGINAL-URL:https://www.rfirst.org
X-WR-CALDESC:Events for ReliabilityFirst
REFRESH-INTERVAL;VALUE=DURATION:PT1H
X-Robots-Tag:noindex
X-PUBLISHED-TTL:PT1H
BEGIN:VTIMEZONE
TZID:America/New_York
BEGIN:DAYLIGHT
TZOFFSETFROM:-0500
TZOFFSETTO:-0400
TZNAME:EDT
DTSTART:20240310T070000
END:DAYLIGHT
BEGIN:STANDARD
TZOFFSETFROM:-0400
TZOFFSETTO:-0500
TZNAME:EST
DTSTART:20241103T060000
END:STANDARD
BEGIN:DAYLIGHT
TZOFFSETFROM:-0500
TZOFFSETTO:-0400
TZNAME:EDT
DTSTART:20250309T070000
END:DAYLIGHT
BEGIN:STANDARD
TZOFFSETFROM:-0400
TZOFFSETTO:-0500
TZNAME:EST
DTSTART:20251102T060000
END:STANDARD
BEGIN:DAYLIGHT
TZOFFSETFROM:-0500
TZOFFSETTO:-0400
TZNAME:EDT
DTSTART:20260308T070000
END:DAYLIGHT
BEGIN:STANDARD
TZOFFSETFROM:-0400
TZOFFSETTO:-0500
TZNAME:EST
DTSTART:20261101T060000
END:STANDARD
END:VTIMEZONE
BEGIN:VEVENT
DTSTART;TZID=America/New_York:20250421T140000
DTEND;TZID=America/New_York:20250421T153000
DTSTAMP:20260423T165416
CREATED:20241106T205549Z
LAST-MODIFIED:20250428T131701Z
UID:10666-1745244000-1745249400@www.rfirst.org
SUMMARY:Technical Talk with RF
DESCRIPTION:Event Information\nJoin link: https://reliabilityfirst.webex.com/reliabilityfirst/j.php?MTID=md1f4c01d17c26d446a7e2d4dce4ed8cf   \nMeeting number: 2312 803 7124  \nMeeting password: 0123456 (0123456 when dialing from a phone or video system)  \nJoin by phone: 1-650-479-3207 Call-in toll number (US/Canada)  \nAccess code: 231 280 37124  \nPlease join us on Slido.com using #TechTalkRF as the event code.  \nAgenda \nGridEx VIII preview \nJesse Sythe\, GridEx Program Manager\, E-ISAC \nJesse Sythe will preview what’s to come this year at GridEx VIII\, which will be held Nov. 18-19\, 2025. Hosted every two years by the E-ISAC\, this is the largest grid security exercise in North America\, offering E-ISAC member and partner organizations a forum in which to practice how they would respond to and recover from coordinated cyber and physical security threats and incidents. The last event in 2023 saw more than 15\,000 participants come together from approximately 250 North American organizations\, including the electric industry\, cross-sector partners from gas and telecommunications\, and U.S. and Canadian government partners. Registration for lead planners and planners is now open to E-ISAC members and partners. \nNuclear energy’s place in supporting grid reliability  \nTimothy McJunkin\, Distinguished Researcher and Group Lead for Grid Integration and Control in the Power and Energy System\, Idaho National Laboratory  \nTimothy McJunkin will highlight analysis supporting nuclear energy’s role in a stably operating electric grid\, new efforts funded by the Department of Energy\, and a brief outlook for the progress in advanced reactor development. This is particularly relevant given the large load growth the grid is seeing\, which has led to momentum for some nuclear plants being restarted and potentially increasing the unit capacity at existing plants. \nMcJunkin leads work at the Idaho National Lab in implementing nuclear energy centered microgrids. His current research is centered around cross-cutting research to develop resilience solutions of the energy sector and human systems automation directed at critical-infrastructure. \nCurrent state of the CIP Standards  \nLew Folkerth\, Principal Reliability Consultant\, External Affairs\, ReliabilityFirst  \nLew Folkerth will give an overview on the current status of the NERC Reliability Standards pertaining to Critical Infrastructure Protection (CIP)\, including a current look at the standards\, what’s coming soon\, and what standards are in progress.   \nReference Materials\nTech Talk with RF – April 2025
URL:https://www.rfirst.org/event/technical-talk-with-rf-april-2025/
LOCATION:Virtual (Webex)
CATEGORIES:Webinars
ATTACH;FMTTYPE=image/png:https://www.rfirst.org/wp-content/uploads/2023/08/Tech-Talk-event-teaser-updated-1.png
END:VEVENT
BEGIN:VEVENT
DTSTART;TZID=America/New_York:20250430T090000
DTEND;TZID=America/New_York:20250430T120000
DTSTAMP:20260423T165416
CREATED:20250106T154924Z
LAST-MODIFIED:20250424T141612Z
UID:10876-1746003600-1746014400@www.rfirst.org
SUMMARY:2025 Q1/2 Talent and Compensation Committee Meeting
DESCRIPTION:2025 Q1-2 Schedule of Events \n2025-04-30 Talent and Compensation Agenda
URL:https://www.rfirst.org/event/2025-q1-2-talent-and-compensation-committee-meeting/
LOCATION:ReliabilityFirst\, 3 Summit Park Dr #600\, Independence\, OH\, 44131\, United States
END:VEVENT
BEGIN:VEVENT
DTSTART;TZID=America/New_York:20250430T130000
DTEND;TZID=America/New_York:20250430T150000
DTSTAMP:20260423T165416
CREATED:20250106T155003Z
LAST-MODIFIED:20250424T141636Z
UID:10878-1746018000-1746025200@www.rfirst.org
SUMMARY:2025 Q1/2 Risk and Compliance Committee Meeting
DESCRIPTION:2025 Q1-2 Schedule of Events \n2025-04-30 Risk and Compliance Agenda
URL:https://www.rfirst.org/event/2025-q1-2-risk-and-compliance-committee-meeting/
LOCATION:ReliabilityFirst\, 3 Summit Park Dr #600\, Independence\, OH\, 44131\, United States
END:VEVENT
BEGIN:VEVENT
DTSTART;TZID=America/New_York:20250430T151000
DTEND;TZID=America/New_York:20250430T171000
DTSTAMP:20260423T165416
CREATED:20250106T155056Z
LAST-MODIFIED:20250424T141519Z
UID:10880-1746025800-1746033000@www.rfirst.org
SUMMARY:2025 Q1/2 Finance and Audit Committee Meeting
DESCRIPTION:2025 Q1-2 Schedule of Events \n2025-04-30 Finance and Audit Agenda
URL:https://www.rfirst.org/event/2025-q1-2-finance-and-audit-committee-meeting/
LOCATION:ReliabilityFirst\, 3 Summit Park Dr #600\, Independence\, OH\, 44131\, United States
END:VEVENT
BEGIN:VEVENT
DTSTART;TZID=America/New_York:20250430T151000
DTEND;TZID=America/New_York:20250430T171000
DTSTAMP:20260423T165416
CREATED:20250106T155225Z
LAST-MODIFIED:20250424T141451Z
UID:10882-1746025800-1746033000@www.rfirst.org
SUMMARY:2025 Q1/2 Nominating and Governance Committee Meeting
DESCRIPTION:2025 Q1-2 Schedule of Events \n2025-04-30 Nominating and Governance Agenda
URL:https://www.rfirst.org/event/2025-q1-2-nominating-and-governance-committee-meeting/
LOCATION:ReliabilityFirst\, 3 Summit Park Dr #600\, Independence\, OH\, 44131\, United States
END:VEVENT
END:VCALENDAR