BEGIN:VCALENDAR
VERSION:2.0
PRODID:-//ReliabilityFirst - ECPv6.15.20//NONSGML v1.0//EN
CALSCALE:GREGORIAN
METHOD:PUBLISH
X-WR-CALNAME:ReliabilityFirst
X-ORIGINAL-URL:https://www.rfirst.org
X-WR-CALDESC:Events for ReliabilityFirst
REFRESH-INTERVAL;VALUE=DURATION:PT1H
X-Robots-Tag:noindex
X-PUBLISHED-TTL:PT1H
BEGIN:VTIMEZONE
TZID:America/New_York
BEGIN:DAYLIGHT
TZOFFSETFROM:-0500
TZOFFSETTO:-0400
TZNAME:EDT
DTSTART:20220313T070000
END:DAYLIGHT
BEGIN:STANDARD
TZOFFSETFROM:-0400
TZOFFSETTO:-0500
TZNAME:EST
DTSTART:20221106T060000
END:STANDARD
BEGIN:DAYLIGHT
TZOFFSETFROM:-0500
TZOFFSETTO:-0400
TZNAME:EDT
DTSTART:20230312T070000
END:DAYLIGHT
BEGIN:STANDARD
TZOFFSETFROM:-0400
TZOFFSETTO:-0500
TZNAME:EST
DTSTART:20231105T060000
END:STANDARD
BEGIN:DAYLIGHT
TZOFFSETFROM:-0500
TZOFFSETTO:-0400
TZNAME:EDT
DTSTART:20240310T070000
END:DAYLIGHT
BEGIN:STANDARD
TZOFFSETFROM:-0400
TZOFFSETTO:-0500
TZNAME:EST
DTSTART:20241103T060000
END:STANDARD
END:VTIMEZONE
BEGIN:VEVENT
DTSTART;TZID=America/New_York:20231023T140000
DTEND;TZID=America/New_York:20231023T153000
DTSTAMP:20260423T091225
CREATED:20230829T194121Z
LAST-MODIFIED:20231208T132503Z
UID:840-1698069600-1698075000@www.rfirst.org
SUMMARY:Technical Talk with RF
DESCRIPTION:Agenda Topics: \nCybersecurity\, Energy Security\, and Emergency Response (CESER) and Idaho National Laboratory (INL) Cybersecurity Training for the Utility Workforce \nCynthia Hsu – Cybersecurity Program Manager\, Rural and Municipal Utilities\, Department of Energy Office of Cybersecurity\, Energy Security\, and Emergency Response (CESER) \n\nCynthia will provide an update on upcoming cybersecurity training events hosted by CESER and INL. Each training event will cover the same material but will be offered in different locations – one event will be located in each of the six NERC regions.  Participants do not need to be from a NERC registered entity. The training is designed for technical practitioners in electric utilities that require a hybrid of skills across information technology (IT)\, industrial control systems (ICS)\, operation technology (OT)\, cybersecurity\, and electric grid operations.\n\nBES Cyber Security (BCS) in the Cloud \nTom Alrich – Independent Consultant\, Blogger and Leader of Open Web Application Security Project (OWASP)\, Software Bill of Materials (SBOM) Forum project. \n\nTom will share his thoughts regarding cyber-security and CIP compliance in cloud environments. He will be discussing opportunities\, risks and mitigations as industry explores the possibility of implementing BES Cyber Systems (BCS) into the cloud including implications on CIP-002 and additional NERC Standards.\n\nBES Cyber System Information Access Management \nShon Austin –Principal Technical Auditor\, ReliabilityFirst \n\nShon will discuss Project 2019-02 BES Cyber System Information Access Management. This initiative enhances BES reliability by creating increased choice\, greater flexibility\, higher availability\, and reduced‐cost options for entities to manage their BES Cyber System Information\, by providing a secure path towards utilization of modern third‐party data storage and analysis systems. In addition\, the proposed project would clarify the protections expected when utilizing third‐party solutions (e.g.\, cloud services).\n\n​Who should attend: \nThese presentations are especially relevant to compliance personnel and CIP Subject Matter Experts (SMEs) across all NERC registrations\, especially those interested in cloud computing and virtualization. We encourage you to forward the webinar link and invitation to anyone interested in learning more about cyber security emerging technologies\, risks\, and revisions to upcoming standards. \nReference Materials: \n2023-10-23 Cybersecurity Tech Talk
URL:https://www.rfirst.org/event/technical-talk-with-rf-3/
LOCATION:Virtual (Webex)
CATEGORIES:Webinars
END:VEVENT
END:VCALENDAR