BEGIN:VCALENDAR
VERSION:2.0
PRODID:-//ReliabilityFirst - ECPv6.15.20//NONSGML v1.0//EN
CALSCALE:GREGORIAN
METHOD:PUBLISH
X-ORIGINAL-URL:https://www.rfirst.org
X-WR-CALDESC:Events for ReliabilityFirst
REFRESH-INTERVAL;VALUE=DURATION:PT1H
X-Robots-Tag:noindex
X-PUBLISHED-TTL:PT1H
BEGIN:VTIMEZONE
TZID:America/New_York
BEGIN:DAYLIGHT
TZOFFSETFROM:-0500
TZOFFSETTO:-0400
TZNAME:EDT
DTSTART:20230312T070000
END:DAYLIGHT
BEGIN:STANDARD
TZOFFSETFROM:-0400
TZOFFSETTO:-0500
TZNAME:EST
DTSTART:20231105T060000
END:STANDARD
BEGIN:DAYLIGHT
TZOFFSETFROM:-0500
TZOFFSETTO:-0400
TZNAME:EDT
DTSTART:20240310T070000
END:DAYLIGHT
BEGIN:STANDARD
TZOFFSETFROM:-0400
TZOFFSETTO:-0500
TZNAME:EST
DTSTART:20241103T060000
END:STANDARD
BEGIN:DAYLIGHT
TZOFFSETFROM:-0500
TZOFFSETTO:-0400
TZNAME:EDT
DTSTART:20250309T070000
END:DAYLIGHT
BEGIN:STANDARD
TZOFFSETFROM:-0400
TZOFFSETTO:-0500
TZNAME:EST
DTSTART:20251102T060000
END:STANDARD
END:VTIMEZONE
BEGIN:VEVENT
DTSTART;TZID=America/New_York:20240916T170000
DTEND;TZID=America/New_York:20240918T130000
DTSTAMP:20260424T180344
CREATED:20231129T195131Z
LAST-MODIFIED:20240924T175908Z
UID:7832-1726506000-1726664400@www.rfirst.org
SUMMARY:Fall Reliability and Security Summit
DESCRIPTION:Formerly known as the Fall Workshop\, the 2024 Fall Reliability and Security Summit will take place Sept. 16-18\, 2024\, in Indianapolis. \nWe’ll dive into the intersection of energy policy with reliability and security\, as we navigate the challenges of a changing generation mix. We’ll have speakers from state government\, including an energy policy legislator panel featuring: \n\nMaryland State Sen. Brian Feldman\nDelaware State Sen. Stephanie Hansen\nIndiana State Sen. Eric Koch\nOhio State Rep. Dick Stein\n\nCoordination\, collaboration\, and cooperation are critical to this great energy transition\, and we will also have speakers from industry\, academia and ReliabilityFirst. \nThe summit will kick off with our annual Awards Ceremony and reception on Monday night\, followed by a full day of panels and presentations on Tuesday. Wednesday morning will include additional presentations\, concluding with industry committee meetings. \nRegistration for this event is now closed. \n  \nReference materials\nFall Reliability and Security Summit Presentations \n  \nHow to tune in virtually\nTuesday\, Sept. 17 \n8:30 AM | (UTC-04:00) Eastern Time (US & Canada) \nJoin link:\nhttps://reliabilityfirst.webex.com/reliabilityfirst/j.php?MTID=m7052c12284d562e7c1eafb1800fdfb41 \nWebinar number:\n2313 046 2258 \nWebinar password:\nRFSummit24 (73786648 when dialing from a phone or video system) \nJoin by phone\n1-650-479-3207 Call-in toll number (US/Canada)\n1-855-244-8681 Call-in toll-free number (US/Canada) \nAccess code: 231 304 62258 \nWednesday\, Sept. 18 \n8:30 AM | (UTC-04:00) Eastern Time (US & Canada) \nJoin link:\nhttps://reliabilityfirst.webex.com/reliabilityfirst/j.php?MTID=m7498749b4ea18e50a2842157ca225327 \nWebinar number:\n2310 544 3506 \nWebinar password:\nRFSummit24 (73786648 when dialing from a phone or video system) \nJoin by phone\n1-650-479-3207 Call-in toll number (US/Canada)\n1-855-244-8681 Call-in toll-free number (US/Canada) \nAccess code: 231 054 43506 \n  \nAgenda\nDay 1\, Monday\, Sept. 16\, 5 – 7 p.m.\n\nReception and Awards Ceremony\n\n  \nDay 2\, Tuesday\, Sept. 17\, 8:30 a.m. – 4:30 p.m.\n\n\n\nTime\nTopic\nSpeaker(s)\n\n\n8:30 – 9 a.m.\nWelcome\nTim Gallagher\, President & CEO\, ReliabilityFirst\n\n\n9 – 9:45 a.m.\nFERC Transmission Reform\nEric Vandenberg\, Deputy Director\, Office of Electric Reliability\, FERC\n\n\n9:45 – 10 a.m.\nBreak\n\n\n10 – 11:30 a.m.\nEnergy Policy Panel Discussion\nBrian Feldman\, Maryland State Senator\nStephanie Hansen\, Delaware State Senator\nEric Koch\, Indiana State Senator\nDick Stein\, Ohio State Representative\n\n\n11:30 a.m. – 12 p.m.\nNERC Interregional Transfer Capability Study Update\nJohn Moura\, Director\, Reliability Assessment and Performance Analysis\, NERC\n\n\n12 – 1 p.m.\nLunch\n\n\n1 – 1:45 p.m.\nHow to develop a responsive workforce to address the threats of the future\nTim Conway\, Technical Director\, ICS at SANS Institute\n\n\n1:45 – 2:30 p.m.\nWhat keeps a CSO up at night\nFelek Abbas\, Vice President and Chief Security Officer\, SPP\n\n\n2:30 – 3 p.m.\nBreak\n\n\n3 – 3:45 p.m.\nSocioeconomic considerations for the electric grid\nJerome Dumortier\, Professor and Director of Research\, School of Public and Environmental Affairs\, Indiana University Indianapolis\n\n\n3:45 – 4:30 p.m.\nMISO Reliability Imperative\nTodd Hillman\, Senior Vice President and Chief Customer Officer\, MISO\n\n\n\n  \nDay 3\, Wednesday\, Sept. 18\, 8:30 a.m. – 1 p.m.\n\n\n\nTime\nTopic\nSpeaker(s)\n\n\n8:30 – 8:45 a.m.\nKickoff\n\n\n8:45 – 9:30 a.m.\nNERC Standards Update\nLatrice Harkness\, Director of Engineering\, NERC\n\n\n9:30 – 10:30 a.m.\nThe sandbox of Reliability\, Risk and compliance\nJason Thornton\, Principal Technical Auditor\, Operations & Planning Compliance Monitoring\, RF\n\n\n10:30 – 10:45 a.m.\nBreak\n\n\n10:45 a.m. – 1 p.m.\nCompliance User Group (CUG) and Critical Infrastructure Protection Committee (CIPC) meetings\nClosed meetings
URL:https://www.rfirst.org/event/fall-reliability-and-security-summit/
LOCATION:Conrad Indianapolis\, 50 W. Washington St.\, Indianapolis\, IN\, 46204
ATTACH;FMTTYPE=image/png:https://www.rfirst.org/wp-content/uploads/2023/11/2024-Summit-email-header.png
END:VEVENT
END:VCALENDAR