BEGIN:VCALENDAR
VERSION:2.0
PRODID:-//ReliabilityFirst - ECPv6.15.20//NONSGML v1.0//EN
CALSCALE:GREGORIAN
METHOD:PUBLISH
X-WR-CALNAME:ReliabilityFirst
X-ORIGINAL-URL:https://www.rfirst.org
X-WR-CALDESC:Events for ReliabilityFirst
REFRESH-INTERVAL;VALUE=DURATION:PT1H
X-Robots-Tag:noindex
X-PUBLISHED-TTL:PT1H
BEGIN:VTIMEZONE
TZID:America/Halifax
BEGIN:DAYLIGHT
TZOFFSETFROM:-0400
TZOFFSETTO:-0300
TZNAME:ADT
DTSTART:20220313T060000
END:DAYLIGHT
BEGIN:STANDARD
TZOFFSETFROM:-0300
TZOFFSETTO:-0400
TZNAME:AST
DTSTART:20221106T050000
END:STANDARD
BEGIN:DAYLIGHT
TZOFFSETFROM:-0400
TZOFFSETTO:-0300
TZNAME:ADT
DTSTART:20230312T060000
END:DAYLIGHT
BEGIN:STANDARD
TZOFFSETFROM:-0300
TZOFFSETTO:-0400
TZNAME:AST
DTSTART:20231105T050000
END:STANDARD
BEGIN:DAYLIGHT
TZOFFSETFROM:-0400
TZOFFSETTO:-0300
TZNAME:ADT
DTSTART:20240310T060000
END:DAYLIGHT
BEGIN:STANDARD
TZOFFSETFROM:-0300
TZOFFSETTO:-0400
TZNAME:AST
DTSTART:20241103T050000
END:STANDARD
END:VTIMEZONE
BEGIN:VEVENT
DTSTART;TZID=America/Halifax:20230926T120000
DTEND;TZID=America/Halifax:20230927T120000
DTSTAMP:20260423T163928
CREATED:20230531T000731Z
LAST-MODIFIED:20240129T185653Z
UID:306-1695729600-1695816000@www.rfirst.org
SUMMARY:Fall Workshop
DESCRIPTION:To build the grid of the future\, we can’t do it alone. Collaboration and partnerships are more important than ever for the electric industry amid the challenges of a changing generation mix and the great energy transition. At the 2023 Fall Reliability Workshop\, we’ll dive into these interdependencies\, with speakers from state government\, natural gas\, cybersecurity and water industries. Plus\, we’ll have important updates from FERC\, NERC\, RF CMEP staff and more. We hope to see you there! \nBreakfast and lunch will be available each day of the workshop. \nReference Materials: \n2023 Fall Workshop Agenda \n2023 Fall Workshop Booklet \nSept 26 2023 Day 1 Presentations \nSept 27 2023 Day 2 Presentations
URL:https://www.rfirst.org/event/fall-workshop-2/
LOCATION:Omni William Penn Hotel\, 530 William Penn Pl\, Pittsburgh\, PA\, 15219\, United States
END:VEVENT
END:VCALENDAR