BEGIN:VCALENDAR
VERSION:2.0
PRODID:-//ReliabilityFirst - ECPv6.15.20//NONSGML v1.0//EN
CALSCALE:GREGORIAN
METHOD:PUBLISH
X-WR-CALNAME:ReliabilityFirst
X-ORIGINAL-URL:https://www.rfirst.org
X-WR-CALDESC:Events for ReliabilityFirst
REFRESH-INTERVAL;VALUE=DURATION:PT1H
X-Robots-Tag:noindex
X-PUBLISHED-TTL:PT1H
BEGIN:VTIMEZONE
TZID:America/New_York
BEGIN:DAYLIGHT
TZOFFSETFROM:-0500
TZOFFSETTO:-0400
TZNAME:EDT
DTSTART:20220313T070000
END:DAYLIGHT
BEGIN:STANDARD
TZOFFSETFROM:-0400
TZOFFSETTO:-0500
TZNAME:EST
DTSTART:20221106T060000
END:STANDARD
BEGIN:DAYLIGHT
TZOFFSETFROM:-0500
TZOFFSETTO:-0400
TZNAME:EDT
DTSTART:20230312T070000
END:DAYLIGHT
BEGIN:STANDARD
TZOFFSETFROM:-0400
TZOFFSETTO:-0500
TZNAME:EST
DTSTART:20231105T060000
END:STANDARD
BEGIN:DAYLIGHT
TZOFFSETFROM:-0500
TZOFFSETTO:-0400
TZNAME:EDT
DTSTART:20240310T070000
END:DAYLIGHT
BEGIN:STANDARD
TZOFFSETFROM:-0400
TZOFFSETTO:-0500
TZNAME:EST
DTSTART:20241103T060000
END:STANDARD
END:VTIMEZONE
BEGIN:VEVENT
DTSTART;TZID=America/New_York:20230824T090000
DTEND;TZID=America/New_York:20230824T130000
DTSTAMP:20260424T094124
CREATED:20231109T153846Z
LAST-MODIFIED:20240220T032313Z
UID:7227-1692867600-1692882000@www.rfirst.org
SUMMARY:Q3 Board of Directors Meeting
DESCRIPTION:Reference Materials: \n2023-08-23-24 Schedule of Events \n2023-08-24 Board of Directors Agenda \n2023 3rd Qtr Board Announcement
URL:https://www.rfirst.org/event/q3-board-of-directors-meeting/
LOCATION:ReliabilityFirst\, 3 Summit Park Dr #600\, Independence\, OH\, 44131\, United States
END:VEVENT
END:VCALENDAR