BEGIN:VCALENDAR
VERSION:2.0
PRODID:-//ReliabilityFirst - ECPv6.15.20//NONSGML v1.0//EN
CALSCALE:GREGORIAN
METHOD:PUBLISH
X-ORIGINAL-URL:https://www.rfirst.org
X-WR-CALDESC:Events for ReliabilityFirst
REFRESH-INTERVAL;VALUE=DURATION:PT1H
X-Robots-Tag:noindex
X-PUBLISHED-TTL:PT1H
BEGIN:VTIMEZONE
TZID:America/New_York
BEGIN:DAYLIGHT
TZOFFSETFROM:-0500
TZOFFSETTO:-0400
TZNAME:EDT
DTSTART:20220313T070000
END:DAYLIGHT
BEGIN:STANDARD
TZOFFSETFROM:-0400
TZOFFSETTO:-0500
TZNAME:EST
DTSTART:20221106T060000
END:STANDARD
BEGIN:DAYLIGHT
TZOFFSETFROM:-0500
TZOFFSETTO:-0400
TZNAME:EDT
DTSTART:20230312T070000
END:DAYLIGHT
BEGIN:STANDARD
TZOFFSETFROM:-0400
TZOFFSETTO:-0500
TZNAME:EST
DTSTART:20231105T060000
END:STANDARD
BEGIN:DAYLIGHT
TZOFFSETFROM:-0500
TZOFFSETTO:-0400
TZNAME:EDT
DTSTART:20240310T070000
END:DAYLIGHT
BEGIN:STANDARD
TZOFFSETFROM:-0400
TZOFFSETTO:-0500
TZNAME:EST
DTSTART:20241103T060000
END:STANDARD
END:VTIMEZONE
BEGIN:VEVENT
DTSTART;TZID=America/New_York:20230823T090000
DTEND;TZID=America/New_York:20230823T120000
DTSTAMP:20260424T174945
CREATED:20231108T174638Z
LAST-MODIFIED:20240220T033006Z
UID:7153-1692781200-1692792000@www.rfirst.org
SUMMARY:Q3 Compensation Committee Meeting
DESCRIPTION:Reference Materials: \n2023-08-23-24 Schedule of Events \n2023-08-23 Compensation Committee Agenda \n2023 3rd Qtr Board Announcement
URL:https://www.rfirst.org/event/q3-compensation-committee-meeting/
LOCATION:ReliabilityFirst\, 3 Summit Park Dr #600\, Independence\, OH\, 44131\, United States
END:VEVENT
BEGIN:VEVENT
DTSTART;TZID=America/New_York:20230823T130000
DTEND;TZID=America/New_York:20230823T150000
DTSTAMP:20260424T174945
CREATED:20231108T194619Z
LAST-MODIFIED:20240220T032449Z
UID:7187-1692795600-1692802800@www.rfirst.org
SUMMARY:Q3 Compliance Committee Meeting
DESCRIPTION:Reference Materials: \n2023-08-23-24 Schedule of Events \n2023-08-23 Compliance Committee Agenda \n2023 3rd Qtr Board Announcement
URL:https://www.rfirst.org/event/q3-compliance-committee-meeting/
LOCATION:ReliabilityFirst\, 3 Summit Park Dr #600\, Independence\, OH\, 44131\, United States
END:VEVENT
BEGIN:VEVENT
DTSTART;TZID=America/New_York:20230823T151000
DTEND;TZID=America/New_York:20230823T171000
DTSTAMP:20260424T174945
CREATED:20231109T151941Z
LAST-MODIFIED:20240220T032527Z
UID:7221-1692803400-1692810600@www.rfirst.org
SUMMARY:Q3 Finance and Audit Committee Meeting
DESCRIPTION:Reference Materials: \n2023-08-23-24 Schedule of Events \n2023-08-23 Finance and Audit Committee Agenda \n2023 3rd Qtr Board Announcement
URL:https://www.rfirst.org/event/q3-finance-and-audit-committee-meeting/
LOCATION:ReliabilityFirst\, 3 Summit Park Dr #600\, Independence\, OH\, 44131\, United States
END:VEVENT
BEGIN:VEVENT
DTSTART;TZID=America/New_York:20230823T151000
DTEND;TZID=America/New_York:20230823T171000
DTSTAMP:20260424T174945
CREATED:20231109T152948Z
LAST-MODIFIED:20240220T032406Z
UID:7223-1692803400-1692810600@www.rfirst.org
SUMMARY:Q3 Nominating and Governance Committee Meeting
DESCRIPTION:Reference Materials: \n2023-08-23-24 Schedule of Events \n2023-08-23 Nominating and Governance Committee Agenda \n2023 3rd Qtr Board Announcement
URL:https://www.rfirst.org/event/q3-nominating-and-governance-committee-meeting/
LOCATION:ReliabilityFirst\, 3 Summit Park Dr #600\, Independence\, OH\, 44131\, United States
END:VEVENT
END:VCALENDAR