BEGIN:VCALENDAR
VERSION:2.0
PRODID:-//ReliabilityFirst - ECPv6.15.20//NONSGML v1.0//EN
CALSCALE:GREGORIAN
METHOD:PUBLISH
X-WR-CALNAME:ReliabilityFirst
X-ORIGINAL-URL:https://www.rfirst.org
X-WR-CALDESC:Events for ReliabilityFirst
REFRESH-INTERVAL;VALUE=DURATION:PT1H
X-Robots-Tag:noindex
X-PUBLISHED-TTL:PT1H
BEGIN:VTIMEZONE
TZID:America/New_York
BEGIN:DAYLIGHT
TZOFFSETFROM:-0500
TZOFFSETTO:-0400
TZNAME:EDT
DTSTART:20220313T070000
END:DAYLIGHT
BEGIN:STANDARD
TZOFFSETFROM:-0400
TZOFFSETTO:-0500
TZNAME:EST
DTSTART:20221106T060000
END:STANDARD
BEGIN:DAYLIGHT
TZOFFSETFROM:-0500
TZOFFSETTO:-0400
TZNAME:EDT
DTSTART:20230312T070000
END:DAYLIGHT
BEGIN:STANDARD
TZOFFSETFROM:-0400
TZOFFSETTO:-0500
TZNAME:EST
DTSTART:20231105T060000
END:STANDARD
BEGIN:DAYLIGHT
TZOFFSETFROM:-0500
TZOFFSETTO:-0400
TZNAME:EDT
DTSTART:20240310T070000
END:DAYLIGHT
BEGIN:STANDARD
TZOFFSETFROM:-0400
TZOFFSETTO:-0500
TZNAME:EST
DTSTART:20241103T060000
END:STANDARD
END:VTIMEZONE
BEGIN:VEVENT
DTSTART;TZID=America/New_York:20230803T080000
DTEND;TZID=America/New_York:20230803T120000
DTSTAMP:20260424T080736
CREATED:20231108T172158Z
LAST-MODIFIED:20240223T183551Z
UID:7137-1691049600-1691064000@www.rfirst.org
SUMMARY:Human Performance Workshop
DESCRIPTION:Please mark your calendars for the upcoming ReliabilityFirst Protection System and Human Performance Workshops. For 2023 we have opted to have both of our workshops entirely virtual this year.  The agenda and additional information are currently being developed and will be available soon. \nIntended Audience \nThe ideas\, suggestions and stories shared during this highly interactive\, free event are especially relevant for: \n\nSubstation and Transmission Maintenance personnel\nProtection and Controls experts\nOperations Control Rooms\, including tools support personnel for EMS\, SCADA\, etc.\nAsset Design Groups (substation and transmission)\nHuman Resource Professionals\nAsset Management Groups\nInternal Control Champions and Specialists\nCompany Trainers\nLeadership and others interested in these topics\n\nRegistration is now open. There is no fee and this event is open to anyone who would like to attend. If you have any questions\, please contact John Idzior or Thomas Teafatiller.​ \nReference Materials: \n2023-08-03 Human Performance Workshop Agenda
URL:https://www.rfirst.org/event/human-performance-workshop/
LOCATION:Virtual (Webex)
CATEGORIES:Webinars
END:VEVENT
END:VCALENDAR